BEGIN:VCALENDAR
VERSION:2.0
PRODID:-//Lexocia - ECPv6.15.20//NONSGML v1.0//EN
CALSCALE:GREGORIAN
METHOD:PUBLISH
X-WR-CALNAME:Lexocia
X-ORIGINAL-URL:https://lexocia-avocats.com
X-WR-CALDESC:Évènements pour Lexocia
REFRESH-INTERVAL;VALUE=DURATION:PT1H
X-Robots-Tag:noindex
X-PUBLISHED-TTL:PT1H
BEGIN:VTIMEZONE
TZID:Europe/Paris
BEGIN:DAYLIGHT
TZOFFSETFROM:+0100
TZOFFSETTO:+0200
TZNAME:CEST
DTSTART:20220327T010000
END:DAYLIGHT
BEGIN:STANDARD
TZOFFSETFROM:+0200
TZOFFSETTO:+0100
TZNAME:CET
DTSTART:20221030T010000
END:STANDARD
BEGIN:DAYLIGHT
TZOFFSETFROM:+0100
TZOFFSETTO:+0200
TZNAME:CEST
DTSTART:20230326T010000
END:DAYLIGHT
BEGIN:STANDARD
TZOFFSETFROM:+0200
TZOFFSETTO:+0100
TZNAME:CET
DTSTART:20231029T010000
END:STANDARD
BEGIN:DAYLIGHT
TZOFFSETFROM:+0100
TZOFFSETTO:+0200
TZNAME:CEST
DTSTART:20240331T010000
END:DAYLIGHT
BEGIN:STANDARD
TZOFFSETFROM:+0200
TZOFFSETTO:+0100
TZNAME:CET
DTSTART:20241027T010000
END:STANDARD
END:VTIMEZONE
BEGIN:VEVENT
DTSTART;TZID=Europe/Paris:20230328T090000
DTEND;TZID=Europe/Paris:20230328T170000
DTSTAMP:20260425T173220
CREATED:20230303T094635Z
LAST-MODIFIED:20230303T094635Z
UID:29938-1679994000-1680022800@lexocia-avocats.com
SUMMARY:Actualités 1er trimestre 2023 Mulhouse
DESCRIPTION:Actualité législative et jurisprudentielle en droit social\nLes objectifs de cette formation trimestrielle sont : \n\nIdentifier les nouvelles règles applicables légales et jurisprudentielles\nTraduire l’évolution du cadre juridique dans sa pratique professionnelle\n\nConditions\, tarifs et inscriptions ici \n 
URL:https://lexocia-avocats.com/event/actualites-1er-trimestre-2023-mulhouse-2/
LOCATION:Holliday Inn – Le Trident\, Mulhouse\, 34 Rue Paul Cézanne\, MULHOUSE\, 68200\, France
CATEGORIES:Formations Trimestrielles
ATTACH;FMTTYPE=image/jpeg:https://lexocia-avocats.com/wp-content/uploads/2022/05/formation-lexocia-avocats-associes-mulhouse-strasbourg.jpg
ORGANIZER;CN="Lexocia":MAILTO:formation@lexocia-avocats.com
END:VEVENT
END:VCALENDAR